BEGIN:VCALENDAR
VERSION:2.0
PRODID:-//EAPN - ECPv6.15.20//NONSGML v1.0//EN
CALSCALE:GREGORIAN
METHOD:PUBLISH
X-ORIGINAL-URL:https://www.eapn.eu
X-WR-CALDESC:Events for EAPN
REFRESH-INTERVAL;VALUE=DURATION:PT1H
X-Robots-Tag:noindex
X-PUBLISHED-TTL:PT1H
BEGIN:VTIMEZONE
TZID:UTC
BEGIN:STANDARD
TZOFFSETFROM:+0000
TZOFFSETTO:+0000
TZNAME:UTC
DTSTART:20210101T000000
END:STANDARD
END:VTIMEZONE
BEGIN:VEVENT
DTSTART;TZID=UTC:20220124T140000
DTEND;TZID=UTC:20220124T180000
DTSTAMP:20260425T234116
CREATED:20211220T125729Z
LAST-MODIFIED:20220118T111436Z
UID:47566-1643032800-1643047200@www.eapn.eu
SUMMARY:RIGHT TO ENERGY FORUM 2022
DESCRIPTION:As one of the co-founding members of the Right to Energy Coalition\, EAPN is honoured to launch the Right to Energy Forum 2022\, together with the European Public Service Unions (EPSU) and Friends of the Earth Europe.  \nWe will present the new EAPN-EPSU briefing on the Right to Affordable\, Clean Energy for All Europeans\, during the opening session of the Right to Energy Forum 2022.  \nJoin us on January 24 (14:00 – 15:30) and stay tuned: @EAPNEurope \nDiscover the full programme! \nREGISTER HERE \nRight now\, skyrocketing energy prices are exacerbating energy poverty\, pushing millions of Europeans to choose between eating and heating. But energy poverty is not a new phenomenon. Since 2017\, the Right to Energy movement has forged a people-powered movement to challenge energy poverty across Europe. In 2021\, we came together to shape new vital EU legislation including the Fit for 55 package and the revised Energy Performance of Buildings Directive. \nAccess to affordable clean energy is a human right\, and equal participation in a low-carbon economy must not be a privilege for a few!  \nPeople living on inadequate income and in energy-inefficient houses are paying a high price for soaring energy costs\, are often missed out on deep renovation and risk getting locked in the fossil fuel infrastructure in the next decade. The transition to climate neutrality has also an unequal impact on the workforce in terms of upskilling and reskilling\, access to green jobs and decent working conditions.  \nEAPN believes that the Forum is the right place to remind that social justice should be at the core of the energy and climate transitions. Achieving a socially inclusive decarbonisation and ensuring affordable adequate housing are a collective responsibility.  \nThis year’s programme offers 5 days of discussions and interactive sessions with activists\, politicians\, environmental NGOs\, trade unions\, EU decision makers and solidarity collectives from across Europe to discuss energy poverty and its place in the social justice and climate movement as well as solutions to eradicate it.    \nThe following themes will be discussed: \n\nEnergy poverty and climate justice\, showcasing the right to energy movement across the EU and explaining why it’s a climate justice issue.\nAddressing the root causes of Energy poverty\, showcasing renovations and renewables as a crucial solution to tackle energy poverty. \nTowards an energy system for people and planet\, showcasing the need to change the energy system\, and exposing how the neoliberal energy market exploits poor households. \nFrom words to action: Commitments across the EU\, showcasing the high-level commitments and actions taken by and in the EU. •The Next Steps for the Right to Energy movement\, how to continue strategising as a movement in the year ahead.
URL:https://www.eapn.eu/event/right-to-energy-forum-2022/
LOCATION:Online
CATEGORIES:EAPN speaking
ATTACH;FMTTYPE=image/jpeg:https://www.eapn.eu/wp-content/uploads/2021/12/eapn-2022-R2E-forum-email-banner-5351-scaled.jpg
END:VEVENT
END:VCALENDAR