BEGIN:VCALENDAR
VERSION:2.0
PRODID:-//EAPN - ECPv6.15.20//NONSGML v1.0//EN
CALSCALE:GREGORIAN
METHOD:PUBLISH
X-WR-CALNAME:EAPN
X-ORIGINAL-URL:https://www.eapn.eu
X-WR-CALDESC:Events for EAPN
REFRESH-INTERVAL;VALUE=DURATION:PT1H
X-Robots-Tag:noindex
X-PUBLISHED-TTL:PT1H
BEGIN:VTIMEZONE
TZID:UTC
BEGIN:STANDARD
TZOFFSETFROM:+0000
TZOFFSETTO:+0000
TZNAME:UTC
DTSTART:20220101T000000
END:STANDARD
END:VTIMEZONE
BEGIN:VEVENT
DTSTART;VALUE=DATE:20230221
DTEND;VALUE=DATE:20230224
DTSTAMP:20260425T032750
CREATED:20230131T145553Z
LAST-MODIFIED:20230207T083948Z
UID:48974-1676937600-1677196799@www.eapn.eu
SUMMARY:Right to Energy Forum 2023
DESCRIPTION:EAPN is honoured to participate in the launch of the Right to Energy Forum 2023\, and raise the voice of people experiencing energy poverty in the ongoing energy and cost of living crisis.   \nJoin us on 21 – 23 February 2023.  \nThis year’s programme is filled to the brim with interactive sessions and inspiring talks from activists\, experts\, organisers\, and government officials. Be sure to reserve your place\, as tickets are based on availability.  \nRegister here \nFull Programme \nWith many Europeans already strained with the cost of living crisis\, energy poverty is making headlines due to skyrocketing prices\, forcing millions to make an unconscionable choice between eating and heating.  This is a watershed moment for Europe.  We must come together to ensure 2023 becomes a landmark year for tackling energy poverty\, as well as implementing long-term solutions to shield the most vulnerable and prevent future energy crises.  \nSocial justice should be at the core of the energy and climate transitions. Everyone has a right to clean\, affordable energy and decent housing. Achieving a socially inclusive decarbonisation and ensuring affordable adequate housing are a collective responsibility. The Right to Energy movement is a people-powered movement that successfully challenges energy poverty in Europe since its formation in 2017 \nEAPN Europe will be hosting the following sessions: \n\nAfter the windfall tax: The next big ideas for a right to energy\nClimate Justice is Social Justice\, Social Justice is Climate Justice\n\nThis year’s programme offers 3 days of discussions and interactive sessions with activists\, politicians\, environmental NGOs\, trade unions\, EU decision makers and solidarity collectives from across Europe to discuss energy poverty and its place in the social justice and climate movement as well as solutions to eradicate it.    \nFor further information\, please contact Sabrina Iannazzone (Policy & Advocacy Officer) at sabrina.iannazzone@eapn.eu
URL:https://www.eapn.eu/event/right-to-energy-forum2023/
ATTACH;FMTTYPE=image/jpeg:https://www.eapn.eu/wp-content/uploads/2023/01/eapn-Twitter-Forum-RSVP-3-5636.jpg
END:VEVENT
END:VCALENDAR