BEGIN:VCALENDAR
VERSION:2.0
PRODID:-//EAPN - ECPv6.15.20//NONSGML v1.0//EN
CALSCALE:GREGORIAN
METHOD:PUBLISH
X-ORIGINAL-URL:https://www.eapn.eu
X-WR-CALDESC:Events for EAPN
REFRESH-INTERVAL;VALUE=DURATION:PT1H
X-Robots-Tag:noindex
X-PUBLISHED-TTL:PT1H
BEGIN:VTIMEZONE
TZID:UTC
BEGIN:STANDARD
TZOFFSETFROM:+0000
TZOFFSETTO:+0000
TZNAME:UTC
DTSTART:20220101T000000
END:STANDARD
END:VTIMEZONE
BEGIN:VEVENT
DTSTART;TZID=UTC:20231206T140000
DTEND;TZID=UTC:20231206T163000
DTSTAMP:20260424T114830
CREATED:20230927T051411Z
LAST-MODIFIED:20230927T051629Z
UID:50136-1701871200-1701880200@www.eapn.eu
SUMMARY:Capacity-building webinar on the European Semester
DESCRIPTION:Need help navigating the European Semester Process? Join our online capacity-building session!\n\n📍 Online   \nPlease register via the registration form by 24 November\, end of day. \nThis capacity-building session – co-organised with EAPN Europe\, ENSIE and ERGO Network as well as their respective members EAPN France\, Skoopi (Sweden) and Integro Association (Bulgaria) – aims to give interested civil society organisations active at EU and national level as well as other interested stakeholders an introduction into the Semester\, its importance for policy-making\, its functioning and key moments and ways to engage.   \nThe European Semester process is an annual year-long mandatory process that coordinates\, monitors and evaluates Member States’ economic\, fiscal\, social\, environmental and climate policies and reforms. It makes recommendations that contribute to turning various EU strategies\, such as European Pillar of Social Rights (Social Pillar)\, its Action Plan and EU headline targets on employment\, skills\, and poverty reduction and the UN Sustainable Development Goals (SDGs)\, into reality. It also increasingly focuses on environmental and climate priorities\, monitoring the implementation of national energy and climate plans. More recently\, it has been linked with the Recovery & Resilience Facility (RRF) adopted to address the economic and social impact of the COVID-19 pandemic and achieve socially just green and digital transitions\, thereby also directing the use of EU funding to these priorities. It monitors Member States’ implementation of their National Recovery & Resilience Plans.   \nThe involvement of civil society organisations in the development\, implementation and evaluation of policies is key to ensure they are evidence-based and correspond to the situation on the ground.  \n>> Learn more and register here.
URL:https://www.eapn.eu/event/capacity-building-webinar-on-the-european-semester/
LOCATION:Online
CATEGORIES:EAPN speaking
ATTACH;FMTTYPE=image/jpeg:https://www.eapn.eu/wp-content/uploads/2023/09/eapn-Social-Platform-06122023-5769.jpg
END:VEVENT
END:VCALENDAR