BEGIN:VCALENDAR
VERSION:2.0
PRODID:-//EAPN - ECPv6.15.20//NONSGML v1.0//EN
CALSCALE:GREGORIAN
METHOD:PUBLISH
X-ORIGINAL-URL:https://www.eapn.eu
X-WR-CALDESC:Events for EAPN
REFRESH-INTERVAL;VALUE=DURATION:PT1H
X-Robots-Tag:noindex
X-PUBLISHED-TTL:PT1H
BEGIN:VTIMEZONE
TZID:UTC
BEGIN:STANDARD
TZOFFSETFROM:+0000
TZOFFSETTO:+0000
TZNAME:UTC
DTSTART:20230101T000000
END:STANDARD
END:VTIMEZONE
BEGIN:VEVENT
DTSTART;TZID=UTC:20240408T090000
DTEND;TZID=UTC:20240408T120000
DTSTAMP:20260424T061246
CREATED:20250808T111056Z
LAST-MODIFIED:20250808T111200Z
UID:53385-1712566800-1712577600@www.eapn.eu
SUMMARY:Launch of the EAPN 2023 Poverty Watch Report
DESCRIPTION:2023 Poverty Watch Report Launch Event:  Unsustainable Welfare States and Risk of Austerity \n8 April 2024 @ European Economic and Social Committee  \nVan Maerlant Building\, Room VMA22 \n  \nThe European Poverty Watch report is a compilation of data and analysis from EAPN’s member bottom-up research national reports. It is an evidence-based report on the current trends and policies on poverty and social exclusion in Europe with concrete recommendations on EAPN’s priority matters. Every year\, this exercise\, as our key advocacy tool\,  describes poverty as a multidimensional concept at the top of the political agenda\, addresses the root causes of poverty\, and amplifies the voices of people experiencing poverty both at national and regional levels.  \nRegister here \nLivestream here
URL:https://www.eapn.eu/event/launch-of-the-eapn-2023-poverty-watch-report/
LOCATION:european economic and social comitee\, Rue Belliard 99/101\, Brussels\, Belgium
ATTACH;FMTTYPE=image/png:https://www.eapn.eu/wp-content/uploads/2025/08/eapn-HEADER-PW-Launch-2-6184.png
END:VEVENT
END:VCALENDAR