BEGIN:VCALENDAR
VERSION:2.0
PRODID:-//EAPN - ECPv6.15.20//NONSGML v1.0//EN
CALSCALE:GREGORIAN
METHOD:PUBLISH
X-WR-CALNAME:EAPN
X-ORIGINAL-URL:https://www.eapn.eu
X-WR-CALDESC:Events for EAPN
REFRESH-INTERVAL;VALUE=DURATION:PT1H
X-Robots-Tag:noindex
X-PUBLISHED-TTL:PT1H
BEGIN:VTIMEZONE
TZID:UTC
BEGIN:STANDARD
TZOFFSETFROM:+0000
TZOFFSETTO:+0000
TZNAME:UTC
DTSTART:20230101T000000
END:STANDARD
END:VTIMEZONE
BEGIN:VEVENT
DTSTART;TZID=UTC:20240614T090000
DTEND;TZID=UTC:20240614T180000
DTSTAMP:20260424T034349
CREATED:20240610T050916Z
LAST-MODIFIED:20240613T084842Z
UID:51384-1718355600-1718388000@www.eapn.eu
SUMMARY:PEP2024
DESCRIPTION:
URL:https://www.eapn.eu/event/pep2024/
LOCATION:The Nhow Hotel Brussels\, Rue Royale 250\, 1210 Bruxelles\, Brussels\, Belgium
ATTACH;FMTTYPE=image/png:https://www.eapn.eu/wp-content/uploads/2024/06/eapn-PEP2024-BANNER-5925.png
ORGANIZER;CN="EAPN":MAILTO:team@eapn.eu
END:VEVENT
END:VCALENDAR