BEGIN:VCALENDAR
VERSION:2.0
PRODID:-//EAPN - ECPv6.15.20//NONSGML v1.0//EN
CALSCALE:GREGORIAN
METHOD:PUBLISH
X-WR-CALNAME:EAPN
X-ORIGINAL-URL:https://www.eapn.eu
X-WR-CALDESC:Events for EAPN
REFRESH-INTERVAL;VALUE=DURATION:PT1H
X-Robots-Tag:noindex
X-PUBLISHED-TTL:PT1H
BEGIN:VTIMEZONE
TZID:UTC
BEGIN:STANDARD
TZOFFSETFROM:+0000
TZOFFSETTO:+0000
TZNAME:UTC
DTSTART:20230101T000000
END:STANDARD
END:VTIMEZONE
BEGIN:VEVENT
DTSTART;TZID=UTC:20240918T100000
DTEND;TZID=UTC:20240918T100000
DTSTAMP:20260421T235122
CREATED:20240916T081933Z
LAST-MODIFIED:20250115T071644Z
UID:52268-1726653600-1726653600@www.eapn.eu
SUMMARY:EAPN talks - EU ELECTIONS 2024: What's next for the missing poor?
DESCRIPTION:The next edition of EAPN Talks happens on Wednesday 18 September 2024 (10:00 – 12:00 Brussels time). To EAPN Talks we invite activists and civil society organisations to delve into a specific topic\, providing an opportunity for all EAPN members to learn\, share and build knowledge together! \nWe will discuss how the 2024-2029 EU institutional changes\, particularly the rise of far-right and right-wing parties\, affect social justice and fundamental rights. The focus will be on the ‘missing poor’—those often overlooked by traditional policies and statistics\, such as the homeless\, undocumented individuals\, people in institutions\, those on the move\, and those deprived of liberty. \nTo explore the possibilities for ‘What strategies can EU civil society organisations use to make the missing poor’s voice heard in a hostile political context?’ we will be joined by ENAR\, the European Disability Forum\, and ERGO Network.  \nDon’t miss this enlightening webinar—get informed and engage with us!
URL:https://www.eapn.eu/event/eapn-talks-eu-elections-2024-whats-next-for-the-missing-poor/
CATEGORIES:Featured
ATTACH;FMTTYPE=image/png:https://www.eapn.eu/wp-content/uploads/2024/09/eapn-EAPN-TALKS-5983.png
END:VEVENT
END:VCALENDAR