BEGIN:VCALENDAR
VERSION:2.0
PRODID:-//EAPN - ECPv6.15.20//NONSGML v1.0//EN
CALSCALE:GREGORIAN
METHOD:PUBLISH
X-WR-CALNAME:EAPN
X-ORIGINAL-URL:https://www.eapn.eu
X-WR-CALDESC:Events for EAPN
REFRESH-INTERVAL;VALUE=DURATION:PT1H
X-Robots-Tag:noindex
X-PUBLISHED-TTL:PT1H
BEGIN:VTIMEZONE
TZID:UTC
BEGIN:STANDARD
TZOFFSETFROM:+0000
TZOFFSETTO:+0000
TZNAME:UTC
DTSTART:20220101T000000
END:STANDARD
END:VTIMEZONE
BEGIN:VEVENT
DTSTART;TZID=UTC:20230317T100000
DTEND;TZID=UTC:20230317T180000
DTSTAMP:20260425T000304
CREATED:20230302T110107Z
LAST-MODIFIED:20230302T110107Z
UID:49163-1679047200-1679076000@www.eapn.eu
SUMMARY:People's Summit | EAPN EU and EAPN Portugal Policy conference
DESCRIPTION:How has the European Pillar of Social Rights (EPSR) translated into concrete actions to benefit those living in the EU? Has it achieved a strong social Europe that is fair\, inclusive and full of opportunities? Where are the gaps and opportunities? \nEAPN Portugal and EAPN Europe will host a People’s Summit in Porto\, Portugal\, bringing together people experiencing poverty (PeP)\, our national members\, political stakeholders and grass-roots organisations. Through a series of workshops and plenaries\, we will address the structural barriers and explore solutions for a meaningful EPSR Action Plan in the next Commission mandate.  \nThis is an opportune moment to influence the agenda of the second edition of the Porto Social Summit by pointing out key subjects that need to be discussed and generate political commitment for an ambitious EU anti-poverty strategy in the next Commission mandate. And an opportunity to create a true culture of participation for people experiencing poverty\, and for the civil society entities that work directly with them. \nMore info here.
URL:https://www.eapn.eu/event/peoples-summit-eapn-eu-and-eapn-portugal-policy-conference/
CATEGORIES:EAPN speaking
ATTACH;FMTTYPE=image/jpeg:https://www.eapn.eu/wp-content/uploads/2023/02/eapn-20230317_EAPN-Peoples-Summit-visual-5641.jpg
END:VEVENT
END:VCALENDAR