BEGIN:VCALENDAR
VERSION:2.0
PRODID:-//EAPN - ECPv6.15.20//NONSGML v1.0//EN
CALSCALE:GREGORIAN
METHOD:PUBLISH
X-WR-CALNAME:EAPN
X-ORIGINAL-URL:https://www.eapn.eu
X-WR-CALDESC:Events for EAPN
REFRESH-INTERVAL;VALUE=DURATION:PT1H
X-Robots-Tag:noindex
X-PUBLISHED-TTL:PT1H
BEGIN:VTIMEZONE
TZID:UTC
BEGIN:STANDARD
TZOFFSETFROM:+0000
TZOFFSETTO:+0000
TZNAME:UTC
DTSTART:20230101T000000
END:STANDARD
END:VTIMEZONE
BEGIN:VEVENT
DTSTART;TZID=UTC:20240614T090000
DTEND;TZID=UTC:20240614T180000
DTSTAMP:20260424T022506
CREATED:20240610T050916Z
LAST-MODIFIED:20240613T084842Z
UID:51384-1718355600-1718388000@www.eapn.eu
SUMMARY:PEP2024
DESCRIPTION:
URL:https://www.eapn.eu/event/pep2024/
LOCATION:The Nhow Hotel Brussels\, Rue Royale 250\, 1210 Bruxelles\, Brussels\, Belgium
ATTACH;FMTTYPE=image/png:https://www.eapn.eu/wp-content/uploads/2024/06/eapn-PEP2024-BANNER-5925.png
ORGANIZER;CN="EAPN":MAILTO:team@eapn.eu
END:VEVENT
BEGIN:VEVENT
DTSTART;TZID=UTC:20240621T080000
DTEND;TZID=UTC:20240621T170000
DTSTAMP:20260424T022506
CREATED:20240621T072443Z
LAST-MODIFIED:20240621T073148Z
UID:51464-1718956800-1718989200@www.eapn.eu
SUMMARY:Affordable Energy: Turning civil society views into action - Reporting by EPAH and EAPN on their Activities
DESCRIPTION:🚀 Exciting News!   \nWe are thrilled to announce that Fernando Chironda\, our Policy and Advocacy Officer\, will be representing us at the upcoming conference on affordable energy. This session will feature the Energy Poverty Advisory Hub (EPAH) and the European Anti-Poverty Network (EAPN)\, where they will report on their important work   \n📅 Check out the full program here: Full Program 
URL:https://www.eapn.eu/event/affordable-energy-turning-civil-society-views-into-action-reporting-by-epah-and-eapn-on-their-activities/
CATEGORIES:EAPN speaking
END:VEVENT
BEGIN:VEVENT
DTSTART;TZID=UTC:20240626T100000
DTEND;TZID=UTC:20240626T120000
DTSTAMP:20260424T022506
CREATED:20240621T071302Z
LAST-MODIFIED:20240916T082310Z
UID:51459-1719396000-1719403200@www.eapn.eu
SUMMARY:Members - EAPN Talks with EIGE
DESCRIPTION:Dear Members\, \nWe are thrilled to announce the new date for the second edition of our EAPN Talk! \nAbout three times a year\, we invite an engaging organization to delve into a specific topic. Exclusively for all EAPN members! \nFor this third EAPN Talk\, we will explore the intersectionality of gender and socio-economic rights with insights from the European Institute for Gender Equality (EIGE). \nJoin us for two hours with Lina Salanauskaite and Sarah Cooke O’Dowd that are going to introduce EIGE Equality Index and their position on economic independence.
URL:https://www.eapn.eu/event/members-eapn-talks-with-eige/
CATEGORIES:EAPN talks - members
ATTACH;FMTTYPE=image/png:https://www.eapn.eu/wp-content/uploads/2024/06/eapn-EAPN-TALKS_EIGE-5930.png
END:VEVENT
END:VCALENDAR